BEGIN:VCALENDAR
VERSION:2.0
PRODID:-//119.47.118.88//NONSGML kigkonsult.se iCalcreator 2.20//
CALSCALE:GREGORIAN
METHOD:PUBLISH
X-FROM-URL:http://hbos.org.nz
X-WR-TIMEZONE:Pacific/Auckland
BEGIN:VTIMEZONE
TZID:Pacific/Auckland
X-LIC-LOCATION:Pacific/Auckland
BEGIN:STANDARD
DTSTART:20180401T030000
TZOFFSETFROM:+1300
TZOFFSETTO:+1200
TZNAME:NZST
END:STANDARD
BEGIN:DAYLIGHT
DTSTART:20170924T020000
TZOFFSETFROM:+1200
TZOFFSETTO:+1300
TZNAME:NZDT
END:DAYLIGHT
END:VTIMEZONE
BEGIN:VEVENT
UID:ai1ec-442@hbos.org.nz
DTSTAMP:20180120T111246Z
CATEGORIES;LANGUAGE=en-US:Events
CONTACT:
DESCRIPTION:<p>Our community Orchestra will be playing a little bracket at 
 the St Matthews Church.</p>\n<p>Come on down and listen.</p>
DTSTART;TZID=Pacific/Auckland:20170514T140000
DTEND;TZID=Pacific/Auckland:20170514T150000
LOCATION:St Matthew’s Hastings @ Cnr King Street South & Lyndon Road West\,
  Hastings
SEQUENCE:0
SUMMARY:St Matthews\, Hastings\, Community Orchestra
URL:http://hbos.org.nz/event/st-matthews-hastings-community-orchestra/
X-COST-TYPE:free
X-TAGS;LANGUAGE=en-US:community orchestra
END:VEVENT
BEGIN:VEVENT
UID:ai1ec-443@hbos.org.nz
DTSTAMP:20180120T111246Z
CATEGORIES;LANGUAGE=en-US:Events
CONTACT:
DESCRIPTION:<p>The community Orchestra will be playing to the residents of 
 Summerset on Ada st Hastings.</p>
DTSTART;TZID=Pacific/Auckland:20170520T103000
DTEND;TZID=Pacific/Auckland:20170520T120000
LOCATION:Summerset @ Ada Street\, Hastings
SEQUENCE:0
SUMMARY:Summerset in the Vines – Community Orchestra
URL:http://hbos.org.nz/event/summerset-in-the-vines/
X-COST-TYPE:free
X-TAGS;LANGUAGE=en-US:community orchestra\,Concert
END:VEVENT
BEGIN:VEVENT
UID:ai1ec-444@hbos.org.nz
DTSTAMP:20180120T111246Z
CATEGORIES;LANGUAGE=en-US:Events
CONTACT:https://www.summerset.co.nz/havelock-north/
DESCRIPTION:<p>Our Youth Orchestra will be playing at Summerset in the Vine
 s Retirement Village  in Havelock North. All are wellcome to attend. The Y
 outh Orchestra have been rehearsing new material across a range of styles 
 and genres since Term 1 and this will be the first time we play these piec
 es in public.</p>
DTSTART;TZID=Pacific/Auckland:20170617T093000
DTEND;TZID=Pacific/Auckland:20170617T103000
LOCATION:Summerset In the Vines @ 249 Te Mata Road\, Havelock North
SEQUENCE:0
SUMMARY:Summerset Havelock North – Youth Orchestra
URL:http://hbos.org.nz/event/summerset-havelock-north/
X-COST-TYPE:free
X-TAGS;LANGUAGE=en-US:Concert\,Youth Orchestra
END:VEVENT
BEGIN:VEVENT
UID:ai1ec-445@hbos.org.nz
DTSTAMP:20180120T111246Z
CATEGORIES:
CONTACT:
DESCRIPTION:<p>This is an AGM like no other. A short meeting to cover our g
 oals ahead\, and the year that has been followed by a concert performed by
  our Orchestras. The Youth and Training Orchestras play individual and com
 bined pieces of varying genre\, sure to impress young and old alike.<br />
 \nWe finish off with a shared morning tea and a chance to talk to the memb
 ers of the orchestra and committee<br />\nThe HBOS Annual General Meeting 
 is open for all members of the public. Come along and see what we’re about
 !</p>
DTSTART;TZID=Pacific/Auckland:20170701T091500
DTEND;TZID=Pacific/Auckland:20170701T101500
LOCATION:Karamu High School @ 901 Windsor Avenue\, Hastings
SEQUENCE:0
SUMMARY:Free Concert and AGM
URL:http://hbos.org.nz/event/free-concert-and-agm/
X-COST-TYPE:free
X-TAGS;LANGUAGE=en-US:Concert\,Training Orchestra\,Youth Orchestra
END:VEVENT
BEGIN:VEVENT
UID:ai1ec-512@hbos.org.nz
DTSTAMP:20180120T111246Z
CATEGORIES:
CONTACT:
DESCRIPTION:<p>Year End Concert featuring Youth\, Training and Community Or
 chestra’s including carols</p>\n<p>Adults $5.00</p>\n<p>Children $2.00</p>
DTSTART;TZID=Pacific/Auckland:20171209T100000
DTEND;TZID=Pacific/Auckland:20171209T113000
LOCATION:Karamu High School Hall @ Cnr Grove and Karamu Road Hastings
SEQUENCE:0
SUMMARY:End of year Concert
URL:http://hbos.org.nz/event/end-of-year-concert/
X-COST-TYPE:free
END:VEVENT
END:VCALENDAR
